BEGIN:VCALENDAR
VERSION:2.0
PRODID:-//Mujer Infinita - ECPv6.2.3.2//NONSGML v1.0//EN
CALSCALE:GREGORIAN
METHOD:PUBLISH
X-ORIGINAL-URL:https://mujerinfinita.es
X-WR-CALDESC:Eventos para Mujer Infinita
REFRESH-INTERVAL;VALUE=DURATION:PT1H
X-Robots-Tag:noindex
X-PUBLISHED-TTL:PT1H
BEGIN:VTIMEZONE
TZID:Europe/London
BEGIN:DAYLIGHT
TZOFFSETFROM:+0000
TZOFFSETTO:+0100
TZNAME:BST
DTSTART:20220327T010000
END:DAYLIGHT
BEGIN:STANDARD
TZOFFSETFROM:+0100
TZOFFSETTO:+0000
TZNAME:GMT
DTSTART:20221030T010000
END:STANDARD
END:VTIMEZONE
BEGIN:VEVENT
DTSTART;TZID=Europe/London:20220904T100000
DTEND;TZID=Europe/London:20220904T120000
DTSTAMP:20260425T002241
CREATED:20220822T120253Z
LAST-MODIFIED:20220822T120725Z
UID:7084-1662285600-1662292800@mujerinfinita.es
SUMMARY:Charla-taller online gratuita: "Ábrete a vivir una sexualidad consciente"
DESCRIPTION:Mujer…¿sientes que tu sexualidad no te llena del todo? ¿tienes una sensación de carencia o vacío porque crees que en el sexo hay algo más profundo que te estás perdiendo? ¿crees que a tus relaciones les falta más amor\, más conexión\, más ternura y entrega..\, y esto te genera insatisfacción o frustración? ¿tienes alguna dificultad como dolor\, vergüenza\, rechazo o pérdida de interés que te impide disfrutar plenamente de tu sexualidad? ¿crees que podrías sentir mucho más placer pero te cuesta conectar con tu cuerpo y tener orgasmos? ¿te es difícil pedir lo que necesitas o expresar tus emociones? \nTe invito a asistir a uno de mis talleres gratuitos los días: \nDOMINGO 4 SEPTIEMBRE 10:00-12:00\nMARTES 6 SEPTIEMBRE 18:00-20:00\nMIÉRCOLES 7 SEPTIEMBRE 10:00-12:00 \nEn estos talleres hablaré de las diferencias que existen entre la sexualidad convencional que todas conocemos y hemos aprendido desde pequeñas\, y otra muy diferente\, una sexualidad consciente y sagrada.\nExplicaré herramientas muy útiles que pueden ayudarte a superar las dificultades en tu sexualidad para que puedas disfrutar de relaciones más íntimas y amorosas.\nY haremos dinámicas prácticas que te ayudarán a conectar contigo misma y conocer lo que necesita tu cuerpo\, lo que facilitará que puedas abrirte a vivir y gozar de una sexualidad consciente y sagrada.\nSi deseas transformar tu sexualidad y disfrutar de ella plenamente\, ¡eres bienvenida! \nReserva tu plaza aquí. \n¡Te espero!\nEsther
URL:https://mujerinfinita.es/event/charla-taller-online-gratuita-abrete-a-vivir-una-sexualidad-consciente-9/
ATTACH;FMTTYPE=image/jpeg:https://mujerinfinita.es/wp-content/uploads/2020/10/IMG-20201016-WA0007-e1604178511118.jpg
ORGANIZER;CN="Esther Huecas":MAILTO:info@mujerinfinita.es
END:VEVENT
BEGIN:VEVENT
DTSTART;TZID=Europe/London:20220906T180000
DTEND;TZID=Europe/London:20220906T200000
DTSTAMP:20260425T002241
CREATED:20220822T121320Z
LAST-MODIFIED:20220822T121320Z
UID:7086-1662487200-1662494400@mujerinfinita.es
SUMMARY:Charla-taller online gratuita: "Ábrete a vivir una sexualidad consciente"
DESCRIPTION:Mujer…¿sientes que tu sexualidad no te llena del todo? ¿tienes una sensación de carencia o vacío porque crees que en el sexo hay algo más profundo que te estás perdiendo? ¿crees que a tus relaciones les falta más amor\, más conexión\, más ternura y entrega..\, y esto te genera insatisfacción o frustración? ¿tienes alguna dificultad como dolor\, vergüenza\, rechazo o pérdida de interés que te impide disfrutar plenamente de tu sexualidad? ¿crees que podrías sentir mucho más placer pero te cuesta conectar con tu cuerpo y tener orgasmos? ¿te es difícil pedir lo que necesitas o expresar tus emociones? \nTe invito a asistir a uno de mis talleres gratuitos los días: \nDOMINGO 4 SEPTIEMBRE 10:00-12:00\nMARTES 6 SEPTIEMBRE 18:00-20:00\nMIÉRCOLES 7 SEPTIEMBRE 10:00-12:00 \nEn estos talleres hablaré de las diferencias que existen entre la sexualidad convencional que todas conocemos y hemos aprendido desde pequeñas\, y otra muy diferente\, una sexualidad consciente y sagrada.\nExplicaré herramientas muy útiles que pueden ayudarte a superar las dificultades en tu sexualidad para que puedas disfrutar de relaciones más íntimas y amorosas.\nY haremos dinámicas prácticas que te ayudarán a conectar contigo misma y conocer lo que necesita tu cuerpo\, lo que facilitará que puedas abrirte a vivir y gozar de una sexualidad consciente y sagrada.\nSi deseas transformar tu sexualidad y disfrutar de ella plenamente\, ¡eres bienvenida! \nReserva tu plaza aquí. \n¡Te espero!\nEsther
URL:https://mujerinfinita.es/event/charla-taller-online-gratuita-abrete-a-vivir-una-sexualidad-consciente-10/
ATTACH;FMTTYPE=image/jpeg:https://mujerinfinita.es/wp-content/uploads/2020/10/IMG-20201016-WA0007-e1604178511118.jpg
ORGANIZER;CN="Esther Huecas":MAILTO:info@mujerinfinita.es
END:VEVENT
BEGIN:VEVENT
DTSTART;TZID=Europe/London:20220907T100000
DTEND;TZID=Europe/London:20220907T120000
DTSTAMP:20260425T002241
CREATED:20220822T121726Z
LAST-MODIFIED:20220822T121727Z
UID:7088-1662544800-1662552000@mujerinfinita.es
SUMMARY:Charla-taller online gratuita: "Ábrete a vivir una sexualidad consciente"
DESCRIPTION:Mujer…¿sientes que tu sexualidad no te llena del todo? ¿tienes una sensación de carencia o vacío porque crees que en el sexo hay algo más profundo que te estás perdiendo? ¿crees que a tus relaciones les falta más amor\, más conexión\, más ternura y entrega..\, y esto te genera insatisfacción o frustración? ¿tienes alguna dificultad como dolor\, vergüenza\, rechazo o pérdida de interés que te impide disfrutar plenamente de tu sexualidad? ¿crees que podrías sentir mucho más placer pero te cuesta conectar con tu cuerpo y tener orgasmos? ¿te es difícil pedir lo que necesitas o expresar tus emociones? \nTe invito a asistir a uno de mis talleres gratuitos los días: \nDOMINGO 4 SEPTIEMBRE 10:00-12:00\nMARTES 6 SEPTIEMBRE 18:00-20:00\nMIÉRCOLES 7 SEPTIEMBRE 10:00-12:00 \nEn estos talleres hablaré de las diferencias que existen entre la sexualidad convencional que todas conocemos y hemos aprendido desde pequeñas\, y otra muy diferente\, una sexualidad consciente y sagrada.\nExplicaré herramientas muy útiles que pueden ayudarte a superar las dificultades en tu sexualidad para que puedas disfrutar de relaciones más íntimas y amorosas.\nY haremos dinámicas prácticas que te ayudarán a conectar contigo misma y conocer lo que necesita tu cuerpo\, lo que facilitará que puedas abrirte a vivir y gozar de una sexualidad consciente y sagrada.\nSi deseas transformar tu sexualidad y disfrutar de ella plenamente\, ¡eres bienvenida! \nReserva tu plaza aquí. \n¡Te espero!\nEsther
URL:https://mujerinfinita.es/event/charla-taller-online-gratuita-abrete-a-vivir-una-sexualidad-consciente-11/
ATTACH;FMTTYPE=image/jpeg:https://mujerinfinita.es/wp-content/uploads/2020/10/IMG-20201016-WA0007-e1604178511118.jpg
ORGANIZER;CN="Esther Huecas":MAILTO:info@mujerinfinita.es
END:VEVENT
BEGIN:VEVENT
DTSTART;TZID=Europe/London:20220918T100000
DTEND;TZID=Europe/London:20220918T143000
DTSTAMP:20260425T002241
CREATED:20220822T123556Z
LAST-MODIFIED:20220822T123557Z
UID:7092-1663495200-1663511400@mujerinfinita.es
SUMMARY:Mujer Agua: Conectando con tu Creatividad
DESCRIPTION:Este es un Taller de Shakti Dance (Yoga de la Danza) y Círculo de Mujeres que pertenece a una serie de 4 talleres donde vamos explorando los 4 elementos: Tierra\, Agua\, Fuego y Aire. \nEl primer taller fue Mujer Árbol\, donde exploramos el elemento Tierra\, y en este segundo encuentro vamos a sumergirnos en el elemento Agua: el mundo emocional y la sensibilidad\, la creatividad\, la fluidez y la capacidad de adaptación. \nNecesitarás ropa cómoda para la sesión de Shakti Dance\, llevar falda larga o vestido largo para las dinámicas de Círculo de Mujeres\, esterilla de yoga\, cojín de meditación o normal\, mantita\, calcetines gordos\, agua…¡y muchas ganas de regalarte este espacio para ti y de compartir con otras mujeres! \n¡Te espero\, eres muy bienvenida!
URL:https://mujerinfinita.es/event/mujer-agua-conectando-con-tu-creatividad-2/
LOCATION:Espacio Yurta\, Carretera de la Virgen 16\, EL SAUZAL
ATTACH;FMTTYPE=image/jpeg:https://mujerinfinita.es/wp-content/uploads/2022/03/Sarai-bella-e1646662881777.jpg
ORGANIZER;CN="Esther Huecas":MAILTO:info@mujerinfinita.es
END:VEVENT
BEGIN:VEVENT
DTSTART;TZID=Europe/London:20220928T183000
DTEND;TZID=Europe/London:20220928T213000
DTSTAMP:20260425T002241
CREATED:20220822T122512Z
LAST-MODIFIED:20220822T122512Z
UID:7090-1664389800-1664400600@mujerinfinita.es
SUMMARY:Inicio del curso online: "Abriendo la Puerta a la Vida"
DESCRIPTION:Este es un curso práctico online en directo de 6 talleres (un taller semanal de 3 horas cada uno durante 6 semanas) con el que iniciaremos un viaje interior de introspección\, exploración y sanación\, cuyo objetivo será despertar a una sexualidad consciente y sagrada conectada con el corazón y basada en el amor incondicional. Utilizaremos herramientas como el Tantra\, la danza libre\, la respiración consciente\, la relajación\, los mantras\, meditaciones… \nEste curso se apoya en la energía de sostén y hermandad del Círculo de Mujeres. En cada taller iremos profundizando en aquellas dificultades que nos limitan la apertura y entrega al goce y al placer como la culpa\, la vergüenza\, el desconocimiento o desconexión del cuerpo\, el dolor o el rechazo\, la ausencia de placer u orgasmos… \nY finalizaremos con un retiro residencial presencial de 4 días en Tenerife donde cerraremos el trabajo de estas 6 semanas con un ritual de devoción y sanación sexual (el retiro es opcional y está sujeto a disponibilidad de plazas libres ya que se realiza junto a las mujeres que han realizado el curso en el formato presencial) \n \nToda la información de este curso la encuentras aquí. \nSi deseas transformar tu sexualidad y disfrutar de ella plenamente para vivirla con amor y conciencia\, ¡eres bienvenida! \nTe espero\,\nEsther
URL:https://mujerinfinita.es/event/inicio-del-curso-online-abriendo-la-puerta-a-la-vida-6/
ATTACH;FMTTYPE=image/jpeg:https://mujerinfinita.es/wp-content/uploads/2021/01/IMG_3757-e1611786078355.jpg
ORGANIZER;CN="Esther Huecas":MAILTO:info@mujerinfinita.es
END:VEVENT
END:VCALENDAR