BEGIN:VCALENDAR
VERSION:2.0
PRODID:-//Mujer Infinita - ECPv6.2.3.2//NONSGML v1.0//EN
CALSCALE:GREGORIAN
METHOD:PUBLISH
X-ORIGINAL-URL:https://mujerinfinita.es
X-WR-CALDESC:Eventos para Mujer Infinita
REFRESH-INTERVAL;VALUE=DURATION:PT1H
X-Robots-Tag:noindex
X-PUBLISHED-TTL:PT1H
BEGIN:VTIMEZONE
TZID:Europe/London
BEGIN:DAYLIGHT
TZOFFSETFROM:+0000
TZOFFSETTO:+0100
TZNAME:BST
DTSTART:20220327T010000
END:DAYLIGHT
BEGIN:STANDARD
TZOFFSETFROM:+0100
TZOFFSETTO:+0000
TZNAME:GMT
DTSTART:20221030T010000
END:STANDARD
END:VTIMEZONE
BEGIN:VEVENT
DTSTART;TZID=Europe/London:20220828T090000
DTEND;TZID=Europe/London:20220828T143000
DTSTAMP:20260425T014032
CREATED:20220810T203411Z
LAST-MODIFIED:20220811T095502Z
UID:7058-1661677200-1661697000@mujerinfinita.es
SUMMARY:Mujer Árbol: Confiando en Ti y en la Vida
DESCRIPTION:Este es un Taller de Shakti Dance (Yoga de la Danza) y Círculo de Mujeres que pertenece a una serie de 4 talleres donde vamos explorando los 4 elementos: Tierra\, Agua\, Fuego y Aire. \nMujer Árbol es el primero de esta serie donde exploramos el elemento Tierra: el enraizamiento\, la confianza\, la seguridad\, la protección\, el sentimiento de pertenencia y arraigo…conectando con tu verdad.\nSerá un taller al aire libre donde respiraremos la energía sanadora de los árboles en un lugar único y excepcional: el monte de Pedro Álvarez\, cerca de Tegueste. \n  \nNecesitarás ropa cómoda para la sesión de Shakti Dance\, llevar falda larga o vestido largo para las dinámicas de Círculo de Mujeres\, esterilla de yoga\, cojín de meditación o normal\, mantita\, calcetines gordos\, agua…¡y muchas ganas de regalarte este espacio para ti y de compartir con otras mujeres! \n¡Te espero\, eres muy bienvenida!
URL:https://mujerinfinita.es/event/mujer-arbol-confiando-en-ti-y-en-la-vida/
LOCATION:Monte de Pedro Álvarez\, España
ATTACH;FMTTYPE=image/jpeg:https://mujerinfinita.es/wp-content/uploads/2022/08/C08671CD-E3C4-4812-9DB4-9A068E8D7743-e1660211671951.jpeg
ORGANIZER;CN="Esther Huecas":MAILTO:info@mujerinfinita.es
END:VEVENT
END:VCALENDAR