BEGIN:VCALENDAR
VERSION:2.0
PRODID:-//Mujer Infinita - ECPv6.2.3.2//NONSGML v1.0//EN
CALSCALE:GREGORIAN
METHOD:PUBLISH
X-WR-CALNAME:Mujer Infinita
X-ORIGINAL-URL:https://mujerinfinita.es
X-WR-CALDESC:Eventos para Mujer Infinita
REFRESH-INTERVAL;VALUE=DURATION:PT1H
X-Robots-Tag:noindex
X-PUBLISHED-TTL:PT1H
BEGIN:VTIMEZONE
TZID:Europe/London
BEGIN:DAYLIGHT
TZOFFSETFROM:+0000
TZOFFSETTO:+0100
TZNAME:BST
DTSTART:20220327T010000
END:DAYLIGHT
BEGIN:STANDARD
TZOFFSETFROM:+0100
TZOFFSETTO:+0000
TZNAME:GMT
DTSTART:20221030T010000
END:STANDARD
END:VTIMEZONE
BEGIN:VEVENT
DTSTART;TZID=Europe/London:20220619T100000
DTEND;TZID=Europe/London:20220619T143000
DTSTAMP:20260425T042005
CREATED:20220331T132244Z
LAST-MODIFIED:20220331T160904Z
UID:6765-1655632800-1655649000@mujerinfinita.es
SUMMARY:Mujer Aire: Expandiendo tus Dones
DESCRIPTION:Este es un Taller de Shakti Dance (Yoga de la Danza) y Círculo de Mujeres que pertenece a una serie de 4 talleres donde estamos explorando los 4 elementos: Tierra\, Agua\, Fuego y Aire. \nEl primer taller fue Mujer Árbol\, donde profundizamos en el elemento Tierra: el enraizamiento\, la confianza\, la seguridad\, la protección\, el sentimiento de pertenencia y arraigo…conectando con tu verdad.  \nEn el segundo encuentro nos sumergirnos en el elemento Agua: la energía femenina\, el mundo emocional y la sensibilidad\, la fluidez y la capacidad de adaptación\, la sexualidad…conectando con tu creatividad. \nEn el tercer taller el protagonista fue el elemento Fuego: la energía masculina\, la fuerza y la determinación\, nuestro poder personal y el poder de transformación…conectando con tu luz interior. \nEn este cuarto y último taller completamos la serie entregándonos al elemento Aire: la ligereza\, lo sutil…expandiendo tus dones y compartiéndolos con el mundo. \nNecesitarás ropa cómoda para la sesión de Shakti Dance\, llevar falda larga o vestido largo para las dinámicas de Círculo de Mujeres\, esterilla de yoga\, cojín de meditación o normal\, mantita\, calcetines gordos\, agua…¡y muchas ganas de regalarte este espacio para ti y de compartir con otras mujeres! \n¡Te espero\, eres muy bienvenida!
URL:https://mujerinfinita.es/event/mujer-aire-expandiendo-tus-dones/
LOCATION:Espacio Yurta\, Carretera de la Virgen 16\, EL SAUZAL
ATTACH;FMTTYPE=image/jpeg:https://mujerinfinita.es/wp-content/uploads/2022/03/dientedeleon7-e1648742877378.jpg
ORGANIZER;CN="Esther Huecas":MAILTO:info@mujerinfinita.es
END:VEVENT
END:VCALENDAR