BEGIN:VCALENDAR
VERSION:2.0
PRODID:-//Mujer Infinita - ECPv6.2.3.2//NONSGML v1.0//EN
CALSCALE:GREGORIAN
METHOD:PUBLISH
X-ORIGINAL-URL:https://mujerinfinita.es
X-WR-CALDESC:Eventos para Mujer Infinita
REFRESH-INTERVAL;VALUE=DURATION:PT1H
X-Robots-Tag:noindex
X-PUBLISHED-TTL:PT1H
BEGIN:VTIMEZONE
TZID:Europe/London
BEGIN:DAYLIGHT
TZOFFSETFROM:+0000
TZOFFSETTO:+0100
TZNAME:BST
DTSTART:20220327T010000
END:DAYLIGHT
BEGIN:STANDARD
TZOFFSETFROM:+0100
TZOFFSETTO:+0000
TZNAME:GMT
DTSTART:20221030T010000
END:STANDARD
BEGIN:DAYLIGHT
TZOFFSETFROM:+0000
TZOFFSETTO:+0100
TZNAME:BST
DTSTART:20230326T010000
END:DAYLIGHT
BEGIN:STANDARD
TZOFFSETFROM:+0100
TZOFFSETTO:+0000
TZNAME:GMT
DTSTART:20231029T010000
END:STANDARD
END:VTIMEZONE
BEGIN:VEVENT
DTSTART;TZID=Europe/London:20221210T160000
DTEND;TZID=Europe/London:20221210T183000
DTSTAMP:20260425T042433
CREATED:20221130T155237Z
LAST-MODIFIED:20221205T133539Z
UID:7742-1670688000-1670697000@mujerinfinita.es
SUMMARY:Charla-taller gratuita en TENERIFE: "Ábrete a vivir una sexualidad consciente"
DESCRIPTION:Mujer…¿sientes que tu sexualidad no te llena del todo? ¿Tienes una sensación de carencia o vacío porque crees que en el sexo hay algo más profundo que te estás perdiendo? ¿Crees que a tus relaciones les falta más amor\, más conexión\, más ternura y entrega..\, y esto te genera insatisfacción o frustración? ¿Tienes alguna dificultad como dolor\, culpa\, vergüenza\, rechazo o pérdida de interés que te impide disfrutar plenamente de tu sexualidad? ¿Crees que podrías sentir mucho más placer pero te cuesta conectar con tu cuerpo y tener orgasmos? ¿Te es difícil pedir lo que necesitas o expresar tus emociones? \nTe invito a asistir a uno de mis talleres gratuitos en TENERIFE los días: \nSÁBADO 10 de DICIEMBRE a las 16:00 en EL SAUZAL\nDOMINGO 11 de DICIEMBRE a las 10:30h en EL SAUZAL\nSÁBADO  17 de DICIEMBRE a las 10:30h en EL SAUZAL \nEn estos talleres hablaré de las diferencias que existen entre la sexualidad convencional que todas conocemos y hemos aprendido desde pequeñas\, y otra muy diferente\, una sexualidad consciente y sagrada.\nExplicaré herramientas muy útiles que pueden ayudarte a superar las dificultades en tu sexualidad para que puedas disfrutar de relaciones más íntimas y amorosas. Y haremos dinámicas prácticas que te ayudarán a conectar contigo misma y conocer lo que necesita tu cuerpo\, lo que facilitará que puedas abrirte a vivir y gozar de tu sexualidad con más amor y conciencia.\nSi deseas transformar tu sexualidad y disfrutar de ella plenamente\, ¡eres bienvenida! \nReserva tu plaza aquí. \nTe espero\,\nEsther
URL:https://mujerinfinita.es/event/charla-taller-gratuita-en-tenerife-abrete-a-vivir-una-sexualidad-consciente-4/
LOCATION:Espacio Yurta\, Carretera de la Virgen 16\, EL SAUZAL
ATTACH;FMTTYPE=image/jpeg:https://mujerinfinita.es/wp-content/uploads/2020/10/c0823d73-67b2-4cf5-9718-a1d862f6e263_auto_x2-scaled-e1630187533369.jpg
ORGANIZER;CN="Esther Huecas":MAILTO:info@mujerinfinita.es
END:VEVENT
BEGIN:VEVENT
DTSTART;TZID=Europe/London:20221211T103000
DTEND;TZID=Europe/London:20221211T130000
DTSTAMP:20260425T042433
CREATED:20221130T155541Z
LAST-MODIFIED:20221205T133329Z
UID:7744-1670754600-1670763600@mujerinfinita.es
SUMMARY:Charla-taller gratuita en TENERIFE: "Ábrete a vivir una sexualidad consciente"
DESCRIPTION:Mujer…¿sientes que tu sexualidad no te llena del todo? ¿Tienes una sensación de carencia o vacío porque crees que en el sexo hay algo más profundo que te estás perdiendo? ¿Crees que a tus relaciones les falta más amor\, más conexión\, más ternura y entrega..\, y esto te genera insatisfacción o frustración? ¿Tienes alguna dificultad como dolor\, culpa\, vergüenza\, rechazo o pérdida de interés que te impide disfrutar plenamente de tu sexualidad? ¿Crees que podrías sentir mucho más placer pero te cuesta conectar con tu cuerpo y tener orgasmos? ¿Te es difícil pedir lo que necesitas o expresar tus emociones? \nTe invito a asistir a uno de mis talleres gratuitos en TENERIFE los días: \nSÁBADO 10 de DICIEMBRE a las 16:00 en EL SAUZAL\nDOMINGO 11 de DICIEMBRE a las 10:30h en EL SAUZAL\nSÁBADO  17 de DICIEMBRE a las 10:30h en EL SAUZAL \nEn estos talleres hablaré de las diferencias que existen entre la sexualidad convencional que todas conocemos y hemos aprendido desde pequeñas\, y otra muy diferente\, una sexualidad consciente y sagrada.\nExplicaré herramientas muy útiles que pueden ayudarte a superar las dificultades en tu sexualidad para que puedas disfrutar de relaciones más íntimas y amorosas. Y haremos dinámicas prácticas que te ayudarán a conectar contigo misma y conocer lo que necesita tu cuerpo\, lo que facilitará que puedas abrirte a vivir y gozar de tu sexualidad con más amor y conciencia.\nSi deseas transformar tu sexualidad y disfrutar de ella plenamente\, ¡eres bienvenida! \nReserva tu plaza aquí. \nTe espero\,\nEsther
URL:https://mujerinfinita.es/event/charla-taller-gratuita-en-tenerife-abrete-a-vivir-una-sexualidad-consciente-5/
LOCATION:Espacio Yurta\, Carretera de la Virgen 16\, EL SAUZAL
ATTACH;FMTTYPE=image/jpeg:https://mujerinfinita.es/wp-content/uploads/2020/10/c0823d73-67b2-4cf5-9718-a1d862f6e263_auto_x2-scaled-e1630187533369.jpg
ORGANIZER;CN="Esther Huecas":MAILTO:info@mujerinfinita.es
END:VEVENT
BEGIN:VEVENT
DTSTART;TZID=Europe/London:20221214T180000
DTEND;TZID=Europe/London:20221214T200000
DTSTAMP:20260425T042433
CREATED:20221205T131019Z
LAST-MODIFIED:20221205T132120Z
UID:7756-1671040800-1671048000@mujerinfinita.es
SUMMARY:Charla-taller online: "Ábrete a vivir una sexualidad consciente"
DESCRIPTION:Mujer…¿sientes que tu sexualidad no te llena del todo? ¿tienes una sensación de carencia o vacío porque crees que en el sexo hay algo más profundo que te estás perdiendo? ¿crees que a tus relaciones les falta más amor\, más conexión\, más ternura y entrega..\, y esto te genera insatisfacción o frustración? ¿tienes alguna dificultad como dolor\, vergüenza\, rechazo o pérdida de interés que te impide disfrutar plenamente de tu sexualidad? ¿crees que podrías sentir mucho más placer pero te cuesta conectar con tu cuerpo y tener orgasmos? ¿te es difícil pedir lo que necesitas o expresar tus emociones? \nTe invito a asistir a uno de mis talleres gratuitos los días: \nMIÉRCOLES 14 DICIEMBRE 18:00-20:00\nMARTES 20 DICIEMBRE 18:00-20:00 \nEn estos talleres hablaré de las diferencias que existen entre la sexualidad convencional que todas conocemos y hemos aprendido desde pequeñas\, y otra muy diferente\, una sexualidad consciente y sagrada.\nExplicaré herramientas muy útiles que pueden ayudarte a superar las dificultades en tu sexualidad para que puedas disfrutar de relaciones más íntimas y amorosas.\nY haremos dinámicas prácticas que te ayudarán a conectar contigo misma y conocer lo que necesita tu cuerpo\, lo que facilitará que puedas abrirte a vivir y gozar de una sexualidad consciente y sagrada.\nSi deseas transformar tu sexualidad y disfrutar de ella plenamente\, ¡eres bienvenida! \nReserva tu plaza aquí. \n¡Te espero!\nEsther
URL:https://mujerinfinita.es/event/charla-taller-online-abrete-a-vivir-una-sexualidad-consciente-2/
ATTACH;FMTTYPE=image/jpeg:https://mujerinfinita.es/wp-content/uploads/2020/10/IMG-20201016-WA0007-e1604178511118.jpg
ORGANIZER;CN="Esther Huecas":MAILTO:info@mujerinfinita.es
END:VEVENT
BEGIN:VEVENT
DTSTART;TZID=Europe/London:20221217T103000
DTEND;TZID=Europe/London:20221217T130000
DTSTAMP:20260425T042433
CREATED:20221130T155852Z
LAST-MODIFIED:20221205T133053Z
UID:7746-1671273000-1671282000@mujerinfinita.es
SUMMARY:Charla-taller gratuita en TENERIFE: "Ábrete a vivir una sexualidad consciente"
DESCRIPTION:Mujer…¿sientes que tu sexualidad no te llena del todo? ¿Tienes una sensación de carencia o vacío porque crees que en el sexo hay algo más profundo que te estás perdiendo? ¿Crees que a tus relaciones les falta más amor\, más conexión\, más ternura y entrega..\, y esto te genera insatisfacción o frustración? ¿Tienes alguna dificultad como dolor\, culpa\, vergüenza\, rechazo o pérdida de interés que te impide disfrutar plenamente de tu sexualidad? ¿Crees que podrías sentir mucho más placer pero te cuesta conectar con tu cuerpo y tener orgasmos? ¿Te es difícil pedir lo que necesitas o expresar tus emociones? \nTe invito a asistir a uno de mis talleres gratuitos en TENERIFE los días: \nSÁBADO 10 de DICIEMBRE a las 16:00 en EL SAUZAL\nDOMINGO 11 de DICIEMBRE a las 10:30h en EL SAUZAL\nSÁBADO  17 de DICIEMBRE a las 10:30h en EL SAUZAL \nEn estos talleres hablaré de las diferencias que existen entre la sexualidad convencional que todas conocemos y hemos aprendido desde pequeñas\, y otra muy diferente\, una sexualidad consciente y sagrada.\nExplicaré herramientas muy útiles que pueden ayudarte a superar las dificultades en tu sexualidad para que puedas disfrutar de relaciones más íntimas y amorosas. Y haremos dinámicas prácticas que te ayudarán a conectar contigo misma y conocer lo que necesita tu cuerpo\, lo que facilitará que puedas abrirte a vivir y gozar de tu sexualidad con más amor y conciencia.\nSi deseas transformar tu sexualidad y disfrutar de ella plenamente\, ¡eres bienvenida! \nReserva tu plaza aquí. \nTe espero\,\nEsther
URL:https://mujerinfinita.es/event/charla-taller-gratuita-en-tenerife-abrete-a-vivir-una-sexualidad-consciente-6/
LOCATION:Espacio Yurta\, Carretera de la Virgen 16\, EL SAUZAL
ATTACH;FMTTYPE=image/jpeg:https://mujerinfinita.es/wp-content/uploads/2020/10/c0823d73-67b2-4cf5-9718-a1d862f6e263_auto_x2-scaled-e1630187533369.jpg
ORGANIZER;CN="Esther Huecas":MAILTO:info@mujerinfinita.es
END:VEVENT
BEGIN:VEVENT
DTSTART;TZID=Europe/London:20221220T180000
DTEND;TZID=Europe/London:20221220T200000
DTSTAMP:20260425T042433
CREATED:20221205T131317Z
LAST-MODIFIED:20221205T131857Z
UID:7758-1671559200-1671566400@mujerinfinita.es
SUMMARY:Charla-taller online: "Ábrete a vivir una sexualidad consciente"
DESCRIPTION:Mujer…¿sientes que tu sexualidad no te llena del todo? ¿tienes una sensación de carencia o vacío porque crees que en el sexo hay algo más profundo que te estás perdiendo? ¿crees que a tus relaciones les falta más amor\, más conexión\, más ternura y entrega..\, y esto te genera insatisfacción o frustración? ¿tienes alguna dificultad como dolor\, vergüenza\, rechazo o pérdida de interés que te impide disfrutar plenamente de tu sexualidad? ¿crees que podrías sentir mucho más placer pero te cuesta conectar con tu cuerpo y tener orgasmos? ¿te es difícil pedir lo que necesitas o expresar tus emociones? \nTe invito a asistir a uno de mis talleres gratuitos los días: \nMIÉRCOLES 14 DICIEMBRE 18:00-20:00\nMARTES 20 DICIEMBRE 18:00-20:00 \nEn estos talleres hablaré de las diferencias que existen entre la sexualidad convencional que todas conocemos y hemos aprendido desde pequeñas\, y otra muy diferente\, una sexualidad consciente y sagrada.\nExplicaré herramientas muy útiles que pueden ayudarte a superar las dificultades en tu sexualidad para que puedas disfrutar de relaciones más íntimas y amorosas.\nY haremos dinámicas prácticas que te ayudarán a conectar contigo misma y conocer lo que necesita tu cuerpo\, lo que facilitará que puedas abrirte a vivir y gozar de una sexualidad consciente y sagrada.\nSi deseas transformar tu sexualidad y disfrutar de ella plenamente\, ¡eres bienvenida! \nReserva tu plaza aquí. \n¡Te espero!\nEsther
URL:https://mujerinfinita.es/event/charla-taller-online-abrete-a-vivir-una-sexualidad-consciente-3/
ATTACH;FMTTYPE=image/jpeg:https://mujerinfinita.es/wp-content/uploads/2020/10/IMG-20201016-WA0007-e1604178511118.jpg
ORGANIZER;CN="Esther Huecas":MAILTO:info@mujerinfinita.es
END:VEVENT
BEGIN:VEVENT
DTSTART;TZID=Europe/London:20230114T093000
DTEND;TZID=Europe/London:20230114T183000
DTSTAMP:20260425T042433
CREATED:20221130T153947Z
LAST-MODIFIED:20221130T153948Z
UID:7740-1673688600-1673721000@mujerinfinita.es
SUMMARY:Inicio del curso en TENERIFE: "Abriendo la Puerta a la Vida"
DESCRIPTION:Este es un curso práctico presencial de 6 talleres con el que iniciaremos un viaje interior de introspección\, exploración y sanación\, cuyo objetivo será despertar a una sexualidad consciente y sagrada conectada con el corazón y basada en el amor incondicional. \nEn cada taller\, que tendrá lugar un sábado al mes (grupo de 10 mujeres máximo) iremos profundizando en aquellas dificultades que nos limitan la apertura y entrega al goce y al placer como la culpa\, la vergüenza\, el desconocimiento o desconexión del cuerpo\, el dolor o el rechazo\, la ausencia de placer u orgasmos… \nFinalizaremos con un retiro residencial de 4 días donde cerraremos el trabajo de estos 6 meses con un ritual de devoción y sanación sexual (el retiro es opcional) \nEn este curso utilizaremos herramientas como el Tantra\, Shakti Dance (yoga de la danza)\, la respiración\, la relajación\, los mantras\, meditaciones… \n \nToda la información de este curso en TENERIFE la encuentras aquí. \nSi deseas transformar tu sexualidad y disfrutar de ella plenamente para vivirla con amor y conciencia\, ¡eres bienvenida! \nTe espero\,\nEsther
URL:https://mujerinfinita.es/event/inicio-del-curso-en-tenerife-abriendo-la-puerta-a-la-vida-4/
LOCATION:Espacio Yurta\, Carretera de la Virgen 16\, EL SAUZAL
ATTACH;FMTTYPE=image/jpeg:https://mujerinfinita.es/wp-content/uploads/2021/01/IMG-1109-e1611884630305.jpg
ORGANIZER;CN="Esther Huecas":MAILTO:info@mujerinfinita.es
END:VEVENT
BEGIN:VEVENT
DTSTART;TZID=Europe/London:20230115T093000
DTEND;TZID=Europe/London:20230115T183000
DTSTAMP:20260425T042433
CREATED:20221130T153524Z
LAST-MODIFIED:20221130T153525Z
UID:7738-1673775000-1673807400@mujerinfinita.es
SUMMARY:Inicio del curso en TENERIFE: "Abriendo la Puerta a la Vida"
DESCRIPTION:Este es un curso práctico presencial de 6 talleres con el que iniciaremos un viaje interior de introspección\, exploración y sanación\, cuyo objetivo será despertar a una sexualidad consciente y sagrada conectada con el corazón y basada en el amor incondicional. \nEn cada taller\, que tendrá lugar un domingo al mes (grupo de 10 mujeres máximo) iremos profundizando en aquellas dificultades que nos limitan la apertura y entrega al goce y al placer como la culpa\, la vergüenza\, el desconocimiento o desconexión del cuerpo\, el dolor o el rechazo\, la ausencia de placer u orgasmos… \nFinalizaremos con un retiro residencial de 4 días donde cerraremos el trabajo de estos 6 meses con un ritual de devoción y sanación sexual (el retiro es opcional) \nEn este curso utilizaremos herramientas como el Tantra\, Shakti Dance (yoga de la danza)\, la respiración\, la relajación\, los mantras\, meditaciones… \n \nToda la información de este curso en TENERIFE la encuentras aquí. \nSi deseas transformar tu sexualidad y disfrutar de ella plenamente para vivirla con amor y conciencia\, ¡eres bienvenida! \nTe espero\,\nEsther
URL:https://mujerinfinita.es/event/inicio-del-curso-en-tenerife-abriendo-la-puerta-a-la-vida-3/
LOCATION:Espacio Yurta\, Carretera de la Virgen 16\, EL SAUZAL
ATTACH;FMTTYPE=image/jpeg:https://mujerinfinita.es/wp-content/uploads/2021/01/IMG-1109-e1611884630305.jpg
ORGANIZER;CN="Esther Huecas":MAILTO:info@mujerinfinita.es
END:VEVENT
END:VCALENDAR