BEGIN:VCALENDAR
VERSION:2.0
PRODID:-//Mujer Infinita - ECPv6.2.3.2//NONSGML v1.0//EN
CALSCALE:GREGORIAN
METHOD:PUBLISH
X-ORIGINAL-URL:https://mujerinfinita.es
X-WR-CALDESC:Eventos para Mujer Infinita
REFRESH-INTERVAL;VALUE=DURATION:PT1H
X-Robots-Tag:noindex
X-PUBLISHED-TTL:PT1H
BEGIN:VTIMEZONE
TZID:Europe/London
BEGIN:DAYLIGHT
TZOFFSETFROM:+0000
TZOFFSETTO:+0100
TZNAME:BST
DTSTART:20220327T010000
END:DAYLIGHT
BEGIN:STANDARD
TZOFFSETFROM:+0100
TZOFFSETTO:+0000
TZNAME:GMT
DTSTART:20221030T010000
END:STANDARD
END:VTIMEZONE
BEGIN:VEVENT
DTSTART;TZID=Europe/London:20220918T100000
DTEND;TZID=Europe/London:20220918T143000
DTSTAMP:20260425T035353
CREATED:20220822T123556Z
LAST-MODIFIED:20220822T123557Z
UID:7092-1663495200-1663511400@mujerinfinita.es
SUMMARY:Mujer Agua: Conectando con tu Creatividad
DESCRIPTION:Este es un Taller de Shakti Dance (Yoga de la Danza) y Círculo de Mujeres que pertenece a una serie de 4 talleres donde vamos explorando los 4 elementos: Tierra\, Agua\, Fuego y Aire. \nEl primer taller fue Mujer Árbol\, donde exploramos el elemento Tierra\, y en este segundo encuentro vamos a sumergirnos en el elemento Agua: el mundo emocional y la sensibilidad\, la creatividad\, la fluidez y la capacidad de adaptación. \nNecesitarás ropa cómoda para la sesión de Shakti Dance\, llevar falda larga o vestido largo para las dinámicas de Círculo de Mujeres\, esterilla de yoga\, cojín de meditación o normal\, mantita\, calcetines gordos\, agua…¡y muchas ganas de regalarte este espacio para ti y de compartir con otras mujeres! \n¡Te espero\, eres muy bienvenida!
URL:https://mujerinfinita.es/event/mujer-agua-conectando-con-tu-creatividad-2/
LOCATION:Espacio Yurta\, Carretera de la Virgen 16\, EL SAUZAL
ATTACH;FMTTYPE=image/jpeg:https://mujerinfinita.es/wp-content/uploads/2022/03/Sarai-bella-e1646662881777.jpg
ORGANIZER;CN="Esther Huecas":MAILTO:info@mujerinfinita.es
END:VEVENT
END:VCALENDAR